BEGIN:VCALENDAR
VERSION:2.0
PRODID:-//Knopspublishing - ECPv6.15.14//NONSGML v1.0//EN
CALSCALE:GREGORIAN
METHOD:PUBLISH
X-ORIGINAL-URL:https://fr.knopspublishing.be
X-WR-CALDESC:Évènements pour Knopspublishing
REFRESH-INTERVAL;VALUE=DURATION:PT1H
X-Robots-Tag:noindex
X-PUBLISHED-TTL:PT1H
BEGIN:VTIMEZONE
TZID:Europe/Brussels
BEGIN:DAYLIGHT
TZOFFSETFROM:+0100
TZOFFSETTO:+0200
TZNAME:CEST
DTSTART:20240331T010000
END:DAYLIGHT
BEGIN:STANDARD
TZOFFSETFROM:+0200
TZOFFSETTO:+0100
TZNAME:CET
DTSTART:20241027T010000
END:STANDARD
BEGIN:DAYLIGHT
TZOFFSETFROM:+0100
TZOFFSETTO:+0200
TZNAME:CEST
DTSTART:20250330T010000
END:DAYLIGHT
BEGIN:STANDARD
TZOFFSETFROM:+0200
TZOFFSETTO:+0100
TZNAME:CET
DTSTART:20251026T010000
END:STANDARD
BEGIN:DAYLIGHT
TZOFFSETFROM:+0100
TZOFFSETTO:+0200
TZNAME:CEST
DTSTART:20260329T010000
END:DAYLIGHT
BEGIN:STANDARD
TZOFFSETFROM:+0200
TZOFFSETTO:+0100
TZNAME:CET
DTSTART:20261025T010000
END:STANDARD
END:VTIMEZONE
BEGIN:VEVENT
DTSTART;TZID=Europe/Brussels:20250520T123000
DTEND;TZID=Europe/Brussels:20250520T183000
DTSTAMP:20260421T103603
CREATED:20250121T201935Z
LAST-MODIFIED:20250521T123352Z
UID:10000188-1747744200-1747765800@fr.knopspublishing.be
SUMMARY:Réduire ou déshériter un enfant et/ou le conjoint : les instruments juridiques et cas d’espèce
DESCRIPTION:Cette formation est uniquement accessible aux notaires\, candidats-notaires et collaborateurs d’une étude notariale \nLes limitations\, restrictions ou suppression des droits successoraux se pensent et se mettent en place à l’aune des tensions au sein du couple ou dans les relations de celui-ci avec les enfants. \nDivers instruments juridiques permettent\, alors\, une orientation dans la transmission de tous ou partie des biens matrimoniaux et successoraux. Notamment : \n\nla cession onéreuse de biens au successible moyennant rente viagère ou créance de prix à terme ;\nla donation modalisée : aménagement des règles du rapport et en cas d’usufruit\, de la répartition des charges ;\nle testament exhérédant ou le pacte successoral et notamment le sort de l’héritier réservataire exhérédé et ses moyens (saisine\, intervention aux opérations de liquidation\, etc.) de protéger sa créance indemnitaire ;\nla convention matrimoniale : le pacte d’exclusion entre conjoints ou l’avantage matrimonial ciblé ;\n\nDifférents formules (clauses) seront proposées\, en fonction des cas abordés. \nOrateur :\nPhilippe DE PAGE\, Professeur honoraire de l’Université Libre de Bruxelles – Avocat honoraire \nProgramme \n  \n\nPrix: 427 € HTVA par participant\nSi inscription groupée\, prix: 320 € HTVA par participant
URL:https://fr.knopspublishing.be/formation/reduire-ou-desheriter-un-enfant-et-ou-le-conjoint-les-instruments-juridiques-et-cas-despece/
LOCATION:Château de Lonzée\, Gembloux\, Belgium
CATEGORIES:Formations,Général,Notaris
END:VEVENT
END:VCALENDAR