BEGIN:VCALENDAR
VERSION:2.0
PRODID:-//Knopspublishing - ECPv6.15.14//NONSGML v1.0//EN
CALSCALE:GREGORIAN
METHOD:PUBLISH
X-WR-CALNAME:Knopspublishing
X-ORIGINAL-URL:https://fr.knopspublishing.be
X-WR-CALDESC:Évènements pour Knopspublishing
REFRESH-INTERVAL;VALUE=DURATION:PT1H
X-Robots-Tag:noindex
X-PUBLISHED-TTL:PT1H
BEGIN:VTIMEZONE
TZID:Europe/Brussels
BEGIN:DAYLIGHT
TZOFFSETFROM:+0100
TZOFFSETTO:+0200
TZNAME:CEST
DTSTART:20230326T010000
END:DAYLIGHT
BEGIN:STANDARD
TZOFFSETFROM:+0200
TZOFFSETTO:+0100
TZNAME:CET
DTSTART:20231029T010000
END:STANDARD
BEGIN:DAYLIGHT
TZOFFSETFROM:+0100
TZOFFSETTO:+0200
TZNAME:CEST
DTSTART:20240331T010000
END:DAYLIGHT
BEGIN:STANDARD
TZOFFSETFROM:+0200
TZOFFSETTO:+0100
TZNAME:CET
DTSTART:20241027T010000
END:STANDARD
BEGIN:DAYLIGHT
TZOFFSETFROM:+0100
TZOFFSETTO:+0200
TZNAME:CEST
DTSTART:20250330T010000
END:DAYLIGHT
BEGIN:STANDARD
TZOFFSETFROM:+0200
TZOFFSETTO:+0100
TZNAME:CET
DTSTART:20251026T010000
END:STANDARD
BEGIN:DAYLIGHT
TZOFFSETFROM:+0100
TZOFFSETTO:+0200
TZNAME:CEST
DTSTART:20260329T010000
END:DAYLIGHT
BEGIN:STANDARD
TZOFFSETFROM:+0200
TZOFFSETTO:+0100
TZNAME:CET
DTSTART:20261025T010000
END:STANDARD
END:VTIMEZONE
BEGIN:VEVENT
DTSTART;TZID=Europe/Brussels:20250918T123000
DTEND;TZID=Europe/Brussels:20250918T183000
DTSTAMP:20260421T103555
CREATED:20250121T203902Z
LAST-MODIFIED:20250616T211605Z
UID:10000190-1758198600-1758220200@fr.knopspublishing.be
SUMMARY:Réduire ou déshériter un enfant et/ou le conjoint : les instruments juridiques et cas d’espèce (webinaire)
DESCRIPTION:Cette formation est uniquement accessible aux notaires\, candidats-notaires et collaborateurs d’une étude notariale \nLes limitations\, restrictions ou suppression des droits successoraux se pensent et se mettent en place à l’aune des tensions au sein du couple ou dans les relations de celui-ci avec les enfants. \nDivers instruments juridiques permettent\, alors\, une orientation dans la transmission de tous ou partie des biens matrimoniaux et successoraux. Notamment : \n\nla cession onéreuse de biens au successible moyennant rente viagère ou créance de prix à terme ;\nla donation modalisée : aménagement des règles du rapport et en cas d’usufruit\, de la répartition des charges ;\nle testament exhérédant ou le pacte successoral et notamment le sort de l’héritier réservataire exhérédé et ses moyens (saisine\, intervention aux opérations de liquidation\, etc.) de protéger sa créance indemnitaire ;\nla convention matrimoniale : le pacte d’exclusion entre conjoints ou l’avantage matrimonial ciblé ;\n\nDifférents formules (clauses) seront proposées\, en fonction des cas abordés. \nOrateur :\nPhilippe DE PAGE\, Professeur honoraire de l’Université Libre de Bruxelles – Avocat honoraire \nProgramme \n  \n\nPrix: 427 € HTVA par participant\nSi inscription groupée\, prix: 320 € HTVA par participant
URL:https://fr.knopspublishing.be/formation/reduire-ou-desheriter-un-enfant-et-ou-le-conjoint-les-instruments-juridiques-et-cas-despece-20-2/
CATEGORIES:Formations,Général,Notaris
END:VEVENT
BEGIN:VEVENT
DTSTART;TZID=Europe/Brussels:20250918T123000
DTEND;TZID=Europe/Brussels:20250918T183000
DTSTAMP:20260421T103555
CREATED:20250121T203114Z
LAST-MODIFIED:20250413T184944Z
UID:10000189-1758198600-1758220200@fr.knopspublishing.be
SUMMARY:Réduire ou déshériter un enfant et/ou le conjoint : les instruments juridiques et cas d’espèce
DESCRIPTION:Cette formation est uniquement accessible aux notaires\, candidats-notaires et collaborateurs d’une étude notariale \nLes limitations\, restrictions ou suppression des droits successoraux se pensent et se mettent en place à l’aune des tensions au sein du couple ou dans les relations de celui-ci avec les enfants. \nDivers instruments juridiques permettent\, alors\, une orientation dans la transmission de tous ou partie des biens matrimoniaux et successoraux. Notamment : \n\nla cession onéreuse de biens au successible moyennant rente viagère ou créance de prix à terme ;\nla donation modalisée : aménagement des règles du rapport et en cas d’usufruit\, de la répartition des charges ;\nle testament exhérédant ou le pacte successoral et notamment le sort de l’héritier réservataire exhérédé et ses moyens (saisine\, intervention aux opérations de liquidation\, etc.) de protéger sa créance indemnitaire ;\nla convention matrimoniale : le pacte d’exclusion entre conjoints ou l’avantage matrimonial ciblé ;\n\nDifférents formules (clauses) seront proposées\, en fonction des cas abordés. \nOrateur :\nPhilippe DE PAGE\, Professeur honoraire de l’Université Libre de Bruxelles – Avocat honoraire \nProgramme \n  \n\nPrix: 427 € HTVA par participant\nSi inscription groupée\, prix: 320 € HTVA par participant
URL:https://fr.knopspublishing.be/formation/reduire-ou-desheriter-un-enfant-et-ou-le-conjoint-les-instruments-juridiques-et-cas-despece-20/
LOCATION:Val Saint Lambert\, Esplanade du Val\, Seraing\, 4100
CATEGORIES:Formations,Général,Notaris
END:VEVENT
BEGIN:VEVENT
DTSTART;TZID=Europe/Brussels:20240418T123000
DTEND;TZID=Europe/Brussels:20240418T183000
DTSTAMP:20260421T103555
CREATED:20231217T115732Z
LAST-MODIFIED:20240207T100201Z
UID:10000113-1713443400-1713465000@fr.knopspublishing.be
SUMMARY:De la donation au testament
DESCRIPTION:Cette formation est uniquement accessible aux notaires\, candidats-notaires et collaborateurs d’une étude notariale \nLa question du choix de la voie (civile et\, accessoirement fiscale) de la donation\, du testament ou de la convention matrimoniale pour réaliser une transmission patrimoniale familiale se pose souvent. \nDans certains cas\, le choix est possible et la voie de la donation\, comportant des clauses spécifiques\, est préférable. Par exemple\, la transmission d’un portefeuille de valeurs mobilières ou d’actions d’une société familiale\, ou encore la transmission d’un immeuble familial. \nDans d’autres cas\, le testament est le seul possible\, notamment par ce que certaines dispositions patrimoniales ne peuvent être prises que par voie testamentaire.  Par exemple\, des clauses modificatives du mode de rapport l’une donation\, ou la suppression d’un usufruit successif. \nCertaines transmissions requièrent l’utilisation de la convention matrimoniale.  Par exemple\, le pacte de suppression des droits successoraux entre époux\, ou les modes de partages du patrimoine commun ou de biens indivis. \nCes différents thèmes seront abordés\, au travers de cas pratiques\, impliquant les époux et leurs descendants. \nOrateur :\nPhilippe DE PAGE\, Professeur honoraire de l’Université Libre de Bruxelles – Avocat honoraire \nProgramme \n  \n\nPrix: 427 € HTVA par participant\nSi inscription groupée\, prix: 406 € HTVA par participant
URL:https://fr.knopspublishing.be/formation/de-la-donation-au-testament-20/
LOCATION:Val Saint Lambert\, Esplanade du Val\, Seraing\, 4100
CATEGORIES:Formations,Général,Notaris
END:VEVENT
BEGIN:VEVENT
DTSTART;TZID=Europe/Brussels:20240321T123000
DTEND;TZID=Europe/Brussels:20240321T183000
DTSTAMP:20260421T103555
CREATED:20231217T114849Z
LAST-MODIFIED:20240326T103427Z
UID:10000111-1711024200-1711045800@fr.knopspublishing.be
SUMMARY:De la donation au testament
DESCRIPTION:Cette formation est uniquement accessible aux notaires\, candidats-notaires et collaborateurs d’une étude notariale \nLa question du choix de la voie (civile et\, accessoirement fiscale) de la donation\, du testament ou de la convention matrimoniale pour réaliser une transmission patrimoniale familiale se pose souvent. \nDans certains cas\, le choix est possible et la voie de la donation\, comportant des clauses spécifiques\, est préférable. Par exemple\, la transmission d’un portefeuille de valeurs mobilières ou d’actions d’une société familiale\, ou encore la transmission d’un immeuble familial. \nDans d’autres cas\, le testament est le seul possible\, notamment par ce que certaines dispositions patrimoniales ne peuvent être prises que par voie testamentaire.  Par exemple\, des clauses modificatives du mode de rapport l’une donation\, ou la suppression d’un usufruit successif. \nCertaines transmissions requièrent l’utilisation de la convention matrimoniale.  Par exemple\, le pacte de suppression des droits successoraux entre époux\, ou les modes de partages du patrimoine commun ou de biens indivis. \nCes différents thèmes seront abordés\, au travers de cas pratiques\, impliquant les époux et leurs descendants. \nOrateur :\nPhilippe DE PAGE\, Professeur honoraire de l’Université Libre de Bruxelles – Avocat honoraire \nProgramme \n  \n\nPrix: 427 € HTVA par participant\nSi inscription groupée\, prix: 406 € HTVA par participant
URL:https://fr.knopspublishing.be/formation/de-la-donation-au-testament/
LOCATION:Hotel Van der Valk\, Av Mélina Mercouri 7\, Mons\, 7000
CATEGORIES:Formations,Général,Notaris
END:VEVENT
END:VCALENDAR